BEGIN:VCALENDAR
VERSION:2.0
PRODID:-//wp-events-plugin.com//7.2.3.1//EN
TZID:Europe/Berlin
X-WR-TIMEZONE:Europe/Berlin
BEGIN:VEVENT
UID:5@mv-g.de
DTSTART;TZID=Europe/Berlin:20250413T180000
DTEND;TZID=Europe/Berlin:20250413T220000
DTSTAMP:20250406T193221Z
URL:https://www.mv-g.de/events/jahreskonzert-2025/
SUMMARY:Jahreskonzert 2025
DESCRIPTION:Wir laden Sie herzlich zu unserem Jahreskonzert ein.\nBeginn is
 t um 18 Uhr in der Korntalhalle\, Einlass ab 17 Uhr.\nDen Auftakt gestalte
 t die gemeinsame Jugendkapelle der Musikvereine Baisingen\, Eutingen und G
 öttelfingen unter der Leitung von Corinna Jöchle. Im Anschluss präsenti
 ert die „Eintracht“ ein abwechslungsreiches Konzertprogramm mit allen 
 Facetten der Blasmusik unter der Leitung von Bernadette Keppler.\nWir freu
 en uns auf Ihren Besuch!\nUnser Konzertprogramm\nRichard Strauss\, arr. Gu
 ido Rennert\nKÖNIGSMARSCH\nEtienne Crausaz\nDELIVERANCE\n– Concert Suit
 e –\nI. Overture\nII. Scherzo\nIII. Vivace\nIV. Finale\nOtto M. Schwarz\
 nTHE BORGIAS\n– The Black Legend – 1. Alexander VI. –\nPAUSE\nJan Va
 n der Roost\nFLASHING WINDS\nJan Van der Roost\nCANTERBURY CHORALE\nHans Z
 immer\, Elton John\, Tim Rice\, arr. Calvin Custer\nTHE LION KING\n– Sou
 ndtrack Highlights from Walt Disney’s Pictures’ ‘The Lion King’ 
 –\nArr. Stefan Schwalgin\nELVIS – THE KING\n– Medley –
ATTACH;FMTTYPE=image/jpeg:https://www.mv-g.de/wp-content/uploads/2024/06/v
 orschaubild_konzert.jpg
LOCATION:Korntalhalle\, Zollernstraße 1\, Göttelfingen im Gäu\, 72184\, 
 Deutschland
X-APPLE-STRUCTURED-LOCATION;VALUE=URI;X-ADDRESS=Zollernstraße 1\, Göttelf
 ingen im Gäu\, 72184\, Deutschland;X-APPLE-RADIUS=100;X-TITLE=Korntalhall
 e:geo:0,0
END:VEVENT
BEGIN:VTIMEZONE
TZID:Europe/Berlin
X-LIC-LOCATION:Europe/Berlin
BEGIN:DAYLIGHT
DTSTART:20250330T030000
TZOFFSETFROM:+0100
TZOFFSETTO:+0200
TZNAME:CEST
END:DAYLIGHT
END:VTIMEZONE
END:VCALENDAR